BEGIN:VCALENDAR
VERSION:2.0
PRODID:-//Mehrblick hilft sehen - ECPv6.15.11//NONSGML v1.0//EN
CALSCALE:GREGORIAN
METHOD:PUBLISH
X-ORIGINAL-URL:https://www.mehrblick-hilft-sehen.de
X-WR-CALDESC:Veranstaltungen für Mehrblick hilft sehen
REFRESH-INTERVAL;VALUE=DURATION:PT1H
X-Robots-Tag:noindex
X-PUBLISHED-TTL:PT1H
BEGIN:VTIMEZONE
TZID:Europe/Berlin
BEGIN:DAYLIGHT
TZOFFSETFROM:+0100
TZOFFSETTO:+0200
TZNAME:CEST
DTSTART:20250330T010000
END:DAYLIGHT
BEGIN:STANDARD
TZOFFSETFROM:+0200
TZOFFSETTO:+0100
TZNAME:CET
DTSTART:20251026T010000
END:STANDARD
BEGIN:DAYLIGHT
TZOFFSETFROM:+0100
TZOFFSETTO:+0200
TZNAME:CEST
DTSTART:20260329T010000
END:DAYLIGHT
BEGIN:STANDARD
TZOFFSETFROM:+0200
TZOFFSETTO:+0100
TZNAME:CET
DTSTART:20261025T010000
END:STANDARD
BEGIN:DAYLIGHT
TZOFFSETFROM:+0100
TZOFFSETTO:+0200
TZNAME:CEST
DTSTART:20270328T010000
END:DAYLIGHT
BEGIN:STANDARD
TZOFFSETFROM:+0200
TZOFFSETTO:+0100
TZNAME:CET
DTSTART:20271031T010000
END:STANDARD
END:VTIMEZONE
BEGIN:VEVENT
DTSTART;TZID=Europe/Berlin:20260413T120000
DTEND;TZID=Europe/Berlin:20260413T140000
DTSTAMP:20260419T194049
CREATED:20260313T115305Z
LAST-MODIFIED:20260313T133450Z
UID:13469-1776081600-1776088800@www.mehrblick-hilft-sehen.de
SUMMARY:Brillensprechstunde
DESCRIPTION:
URL:https://www.mehrblick-hilft-sehen.de/event/brillensprechstunde-6/
LOCATION:Unser Lieben Frauen Kirche\, Kirchhof 27\, 28195 Bremen\, Kirchhof 27\, Bremen\, 28195
CATEGORIES:Bremen
END:VEVENT
END:VCALENDAR