BEGIN:VCALENDAR
VERSION:2.0
PRODID:-//Mehrblick hilft sehen - ECPv6.15.11//NONSGML v1.0//EN
CALSCALE:GREGORIAN
METHOD:PUBLISH
X-ORIGINAL-URL:https://www.mehrblick-hilft-sehen.de
X-WR-CALDESC:Veranstaltungen für Mehrblick hilft sehen
REFRESH-INTERVAL;VALUE=DURATION:PT1H
X-Robots-Tag:noindex
X-PUBLISHED-TTL:PT1H
BEGIN:VTIMEZONE
TZID:Europe/Berlin
BEGIN:DAYLIGHT
TZOFFSETFROM:+0100
TZOFFSETTO:+0200
TZNAME:CEST
DTSTART:20250330T010000
END:DAYLIGHT
BEGIN:STANDARD
TZOFFSETFROM:+0200
TZOFFSETTO:+0100
TZNAME:CET
DTSTART:20251026T010000
END:STANDARD
BEGIN:DAYLIGHT
TZOFFSETFROM:+0100
TZOFFSETTO:+0200
TZNAME:CEST
DTSTART:20260329T010000
END:DAYLIGHT
BEGIN:STANDARD
TZOFFSETFROM:+0200
TZOFFSETTO:+0100
TZNAME:CET
DTSTART:20261025T010000
END:STANDARD
BEGIN:DAYLIGHT
TZOFFSETFROM:+0100
TZOFFSETTO:+0200
TZNAME:CEST
DTSTART:20270328T010000
END:DAYLIGHT
BEGIN:STANDARD
TZOFFSETFROM:+0200
TZOFFSETTO:+0100
TZNAME:CET
DTSTART:20271031T010000
END:STANDARD
END:VTIMEZONE
BEGIN:VEVENT
DTSTART;TZID=Europe/Berlin:20260314T110000
DTEND;TZID=Europe/Berlin:20260314T140000
DTSTAMP:20260419T213744
CREATED:20260303T123642Z
LAST-MODIFIED:20260303T145753Z
UID:12159-1773486000-1773496800@www.mehrblick-hilft-sehen.de
SUMMARY:Brillensprechstunde
DESCRIPTION:
URL:https://www.mehrblick-hilft-sehen.de/event/brillensprechstunde-2/
LOCATION:„Wohlfühlmorgen“\, Klaus-Groth-Schule\, Parkstr. 1 \, Neumünster\, Parkstr. 1\, Neumünster
CATEGORIES:Kiel
END:VEVENT
END:VCALENDAR